BEGIN:VCALENDAR
VERSION:2.0
PRODID:iCalendar-Evo
X-WR-TIMEZONE:US/Central
BEGIN:VEVENT
DTSTAMP:20260419THI1803Z
URL:https://www.cityofodessamo.com/events/42966/
DTSTART;TZID=US/Central:20260323T180000
SUMMARY:Public Hearing Notice ~ Sewer CIRA Rates 
DESCRIPTION:
LOCATION: Odessa Community Building - Dyer Park at 601 W Main, Odessa, Missouri 64076
GEO:39.833333;-98.58333299999998
STREET-ADDRESS:601 W Main Street 
LOCALITY:Odessa 
REGION:Missouri
POSTAL-CODE:64076
UID:bb408a44-3b3b-47b5-b511-3953da37f81220260323T230000@www.cityofodessamo.com
END:VEVENT
END:VCALENDAR