BEGIN:VCALENDAR
VERSION:2.0
PRODID:iCalendar-Evo
X-WR-TIMEZONE:US/Central
BEGIN:VEVENT
DTSTAMP:20260419THI2603Z
URL:https://www.cityofodessamo.com/events/43366/
DTSTART;TZID=US/Central:20260325T180000
SUMMARY:Board of Aldermen Meeting - Rescheduled from March 23rd 
DESCRIPTION:
LOCATION: Odessa Community Building - Dyer Park at 601 W Main, Odessa, Missouri 64076
GEO:39.833333;-98.58333299999998
STREET-ADDRESS:601 W Main Street 
LOCALITY:Odessa 
REGION:Missouri
POSTAL-CODE:64076
UID:8a112f2d-7bfe-4eb3-91dd-2878f6fb3d3120260325T230000@www.cityofodessamo.com
END:VEVENT
END:VCALENDAR